BEGIN:VCALENDAR
VERSION:2.0
PRODID:-//https://losamiguitosmn.com - ECPv6.15.13.1//NONSGML v1.0//EN
CALSCALE:GREGORIAN
METHOD:PUBLISH
X-ORIGINAL-URL:https://losamiguitosmn.com
X-WR-CALDESC:Eventos para https://losamiguitosmn.com
REFRESH-INTERVAL;VALUE=DURATION:PT1H
X-Robots-Tag:noindex
X-PUBLISHED-TTL:PT1H
BEGIN:VTIMEZONE
TZID:UTC
BEGIN:STANDARD
TZOFFSETFROM:+0000
TZOFFSETTO:+0000
TZNAME:UTC
DTSTART:20240101T000000
END:STANDARD
END:VTIMEZONE
BEGIN:VEVENT
DTSTART;VALUE=DATE:20251224
DTEND;VALUE=DATE:20260102
DTSTAMP:20260419T130024
CREATED:20250806T014856Z
LAST-MODIFIED:20250806T025749Z
UID:29415-1766534400-1767311999@losamiguitosmn.com
SUMMARY:Our Center is Closed for Christmas Eve\, Christmas Day\, New Years Eve\, and New Years day.
DESCRIPTION:
URL:https://losamiguitosmn.com/event/our-center-is-closed-for-christmas-eve-christmas-day-new-years-eve-and-new-years-day/
END:VEVENT
BEGIN:VEVENT
DTSTART;TZID=UTC:20251212T093000
DTEND;TZID=UTC:20251212T230000
DTSTAMP:20260419T130024
CREATED:20250806T014817Z
LAST-MODIFIED:20250806T014817Z
UID:29412-1765531800-1765580400@losamiguitosmn.com
SUMMARY:Christmas Party
DESCRIPTION:Christmas Party and Santa Claus comes to visit Los Amiguitos at 9:30am to 11am.
URL:https://losamiguitosmn.com/event/christmas-party/
END:VEVENT
BEGIN:VEVENT
DTSTART;VALUE=DATE:20251127
DTEND;VALUE=DATE:20251129
DTSTAMP:20260419T130024
CREATED:20250806T014733Z
LAST-MODIFIED:20250806T014733Z
UID:29410-1764201600-1764374399@losamiguitosmn.com
SUMMARY:Our Center is Closed for Thanksgiving day and staff development day!
DESCRIPTION:
URL:https://losamiguitosmn.com/event/our-center-is-closed-for-thanksgiving-day-and-staff-development-day/
END:VEVENT
BEGIN:VEVENT
DTSTART;VALUE=DATE:20251105
DTEND;VALUE=DATE:20251106
DTSTAMP:20260419T130024
CREATED:20250806T014653Z
LAST-MODIFIED:20250806T014653Z
UID:29408-1762300800-1762387199@losamiguitosmn.com
SUMMARY:Children's Museum Field Trip
DESCRIPTION:
URL:https://losamiguitosmn.com/event/childrens-museum-field-trip/
END:VEVENT
BEGIN:VEVENT
DTSTART;TZID=UTC:20250922T093000
DTEND;TZID=UTC:20250922T120000
DTSTAMP:20260419T130024
CREATED:20250806T014622Z
LAST-MODIFIED:20250806T014622Z
UID:29406-1758533400-1758542400@losamiguitosmn.com
SUMMARY:Annual Apple Orchard Field Trip at 9:30am
DESCRIPTION:
URL:https://losamiguitosmn.com/event/annual-apple-orchard-field-trip-at-930am/
END:VEVENT
BEGIN:VEVENT
DTSTART;VALUE=DATE:20250908
DTEND;VALUE=DATE:20250909
DTSTAMP:20260419T130024
CREATED:20250806T014542Z
LAST-MODIFIED:20250806T014542Z
UID:29404-1757289600-1757375999@losamiguitosmn.com
SUMMARY:First Day of Preschool and celebration of another wonderful full!
DESCRIPTION:
URL:https://losamiguitosmn.com/event/first-day-of-preschool-and-celebration-of-another-wonderful-full/
END:VEVENT
BEGIN:VEVENT
DTSTART;VALUE=DATE:20250901
DTEND;VALUE=DATE:20250902
DTSTAMP:20260419T130024
CREATED:20250806T014513Z
LAST-MODIFIED:20250806T014513Z
UID:29402-1756684800-1756771199@losamiguitosmn.com
SUMMARY:Our Center will be Closed for Labor Day observance.
DESCRIPTION:
URL:https://losamiguitosmn.com/event/our-center-will-be-closed-for-labor-day-observance/
END:VEVENT
BEGIN:VEVENT
DTSTART;VALUE=DATE:20250828
DTEND;VALUE=DATE:20250830
DTSTAMP:20260419T130024
CREATED:20250806T014447Z
LAST-MODIFIED:20250806T014447Z
UID:29400-1756339200-1756511999@losamiguitosmn.com
SUMMARY:Our Center will be closed for Staff Development days
DESCRIPTION:
URL:https://losamiguitosmn.com/event/our-center-will-be-closed-for-staff-development-days/
END:VEVENT
BEGIN:VEVENT
DTSTART;TZID=UTC:20250820T180000
DTEND;TZID=UTC:20250820T193000
DTSTAMP:20260419T130024
CREATED:20250806T014409Z
LAST-MODIFIED:20250806T014409Z
UID:29398-1755712800-1755718200@losamiguitosmn.com
SUMMARY:Open House for new enrollments for the new school year.
DESCRIPTION:This is a great time to come and meet all of the staff and classrooms at Los Amiguitos from 6pm – 7:30pm. Our staff will be available for any questions you might have regarding our program. Please come and see us\, we would love to meet you!
URL:https://losamiguitosmn.com/event/open-house-for-new-enrollments-for-the-new-school-year/
END:VEVENT
BEGIN:VEVENT
DTSTART;VALUE=DATE:20250815
DTEND;VALUE=DATE:20250816
DTSTAMP:20260419T130024
CREATED:20250806T014303Z
LAST-MODIFIED:20250806T014303Z
UID:29396-1755216000-1755302399@losamiguitosmn.com
SUMMARY:Splash Pad Pool Field Trip
DESCRIPTION:
URL:https://losamiguitosmn.com/event/splash-pad-pool-field-trip/
END:VEVENT
BEGIN:VEVENT
DTSTART;VALUE=DATE:20250806
DTEND;VALUE=DATE:20250807
DTSTAMP:20260419T130024
CREATED:20250806T025926Z
LAST-MODIFIED:20250806T025926Z
UID:29446-1754438400-1754524799@losamiguitosmn.com
SUMMARY:Edinborough Amusement Park Field Trip
DESCRIPTION:
URL:https://losamiguitosmn.com/event/edinborough-amusement-park-field-trip/
END:VEVENT
END:VCALENDAR